View In:
ArcGIS JavaScript
ArcGIS Online Map Viewer
ArcGIS Earth
ArcGIS Pro
Service Description: Dieser Dienst beinhaltet die Rasterdaten der Digitalen Orthophotos der Befliegungen 2018 (wenige Randkacheln 2017) im Landkreis Nienburg Weser in RGB-Darstellung.
Rohdaten der LGLN wurden seitens des GIS-Büros bearbeitet (inklusive Schärfeverbesserung, Kontast-, Helligkeit- und Farbwerteanpassungen)
Map Name: Digitale Orthophotos (DOP 2021)
Legend
All Layers and Tables
Layers:
Description:
Service Item Id: 6150a37ee3e749729e1173f32c05c838
Copyright Text:
Spatial Reference:
102100
(3857)
Single Fused Map Cache: true
Tile Info:
- Height: 256
- Width: 256
- DPI: 96
-
Levels of Detail: 24
-
Level ID: 0
[ Start Tile, End Tile ]
- Resolution: 156543.03392800014
- Scale: 5.91657527591555E8
-
Level ID: 1
[ Start Tile, End Tile ]
- Resolution: 78271.51696399994
- Scale: 2.95828763795777E8
-
Level ID: 2
[ Start Tile, End Tile ]
- Resolution: 39135.75848200009
- Scale: 1.47914381897889E8
-
Level ID: 3
[ Start Tile, End Tile ]
- Resolution: 19567.87924099992
- Scale: 7.3957190948944E7
-
Level ID: 4
[ Start Tile, End Tile ]
- Resolution: 9783.93962049996
- Scale: 3.6978595474472E7
-
Level ID: 5
[ Start Tile, End Tile ]
- Resolution: 4891.96981024998
- Scale: 1.8489297737236E7
- Format: Mixed
- Compression Quality: 75.0
- Origin: X: -2.0037508342787E7
Y: 2.0037508342787E7
- Spatial Reference: 102100
(3857)
Storage Info:
- Storage Format: esriMapCacheStorageModeCompactV2
- Packet Size: 128
Initial Extent:
XMin: 958214.2011960229
YMin: 6869673.531900645
XMax: 1072401.9879605288
YMax: 6976203.921312805
Spatial Reference: 102100
(3857)
Full Extent:
XMin: 958214.2011960229
YMin: 6869673.531900645
XMax: 1072401.9879605288
YMax: 6976203.921312805
Spatial Reference: 102100
(3857)
Units: esriMeters
Supported Image Format Types:
Document Info:
Supports Dynamic Layers: false
Resampling: true
MaxRecordCount: 0
MaxImageHeight: 0
MaxImageWidth: 0
Supported Query Formats:
Supports Query Data Elements:
Min Scale: 0
Max Scale: 0
Min LOD: 6
Max LOD: 20
Child Resources:
Info
Supported Operations:
QueryLegends
Return Updates