View In:
ArcGIS JavaScript
ArcGIS Online Map Viewer
ArcGIS Earth
ArcGIS Pro
Service Description: Neuaufstellung des Regionalen Raumordnungsprogramms (RROP) des Landkreises Nienburg/Weser Auslegung mit Beteiligung – Entwurf 2024.
Der Kreisausschuss hat in seiner Sitzung am 27.05.2024 beschlossen, den Entwurf des RROP für den Landkreis Nienburg/Weser öffentlich auszulegen. Zu diesem Entwurf des RROP wird das Beteiligungsverfahren eingeleitet, siehe amtliche Bekanntmachung vom 17.07.2024.
Im vorliegenden Entwurf des RROP ist die angestrebte räumliche und strukturelle Entwicklung des Landkreises für einen zehnjährigen Zeitraum dargelegt.
Die folgenden Unterlagen
Entwurf der Satzung bestehend aus
a) Satzungstext
b) beschreibender Darstellung
c) zeichnerischer Darstellung (im Maßstab 1:50.000)
Begründung mit Anlagen
Umweltbericht
können in der Zeit vom 29.07.2024 bis 14.10.2024 beim Landkreis Nienburg/Weser, 54 Regionalentwicklung, Zimmer 457, Kreishaus am Schloßplatz, Eingang A über Servicestelle, 31582 Nienburg, montags bis freitags von 8:00 Uhr bis 12:00 Uhr sowie montags und donnerstags von 13:00 Uhr bis 16:00 Uhr oder nach besonderer Vereinbarung unter Tel.-Nr. 05021-967-457 oder E-Mail an rrop@kreis-ni.de eingesehen werden.
Die Unterlagen stehen ab dem 29.07.2024 zur Einsicht und zum Herunterladen zur Verfügung.
Bis spätestens zwei Wochen nach Ablauf der Auslegungszeit, d.h. bis zum 28.10.2024 kann zum Entwurf des RROP, zu der Begründung und zum Umweltbericht in elektronischer oder schriftlicher Form Stellung genommen werden. Die Stellungnahmen sind zu richten an:
· E-Mail-Adresse: rrop@kreis-ni.de oder
· Landkreis Nienburg/Weser, 54 Regionalentwicklung, Kreishaus am Schloßplatz, 31582 Nienburg.
Mit Ablauf der oben angegebenen Stellungnahmefrist sind alle Stellungnahmen zu den Unterlagen ausgeschlossen, die nicht auf besonderen privatrechtlichen Titeln beruhen. Dieser Ausschluss hat keinen Einfluss auf gerichtliche Rechtsschutzmöglichkeiten.
Hinweise zum Datenschutz
Im Falle einer Stellungnahme werden personenbezogene Daten zum Zwecke des laufenden Regionalplanungsverfahrens (einschließlich der Ermittlung und Abwägung betroffener Belange und Dokumentation des ordnungsgemäßen Verfahrens) gespeichert und verarbeitet. Weitere Informationen zum Datenschutz sind unter "Datenschutzerklärung" veröffentlicht.
Map Name: RROP_Entwurf_2024_Cache
Legend
All Layers and Tables
Layers:
Description: Neuaufstellung des Regionalen Raumordnungsprogramms (RROP) des Landkreises Nienburg/Weser Auslegung mit Beteiligung – Entwurf 2024.
Der Kreisausschuss hat in seiner Sitzung am 27.05.2024 beschlossen, den Entwurf des RROP für den Landkreis Nienburg/Weser öffentlich auszulegen. Zu diesem Entwurf des RROP wird das Beteiligungsverfahren eingeleitet, siehe amtliche Bekanntmachung vom 17.07.2024.
Im vorliegenden Entwurf des RROP ist die angestrebte räumliche und strukturelle Entwicklung des Landkreises für einen zehnjährigen Zeitraum dargelegt.
Die folgenden Unterlagen
Entwurf der Satzung bestehend aus
a) Satzungstext
b) beschreibender Darstellung
c) zeichnerischer Darstellung (im Maßstab 1:50.000)
Begründung mit Anlagen
Umweltbericht
können in der Zeit vom 29.07.2024 bis 14.10.2024 beim Landkreis Nienburg/Weser, 54 Regionalentwicklung, Zimmer 457, Kreishaus am Schloßplatz, Eingang A über Servicestelle, 31582 Nienburg, montags bis freitags von 8:00 Uhr bis 12:00 Uhr sowie montags und donnerstags von 13:00 Uhr bis 16:00 Uhr oder nach besonderer Vereinbarung unter Tel.-Nr. 05021-967-457 oder E-Mail an rrop@kreis-ni.de eingesehen werden.
Die Unterlagen stehen ab dem 29.07.2024 zur Einsicht und zum Herunterladen zur Verfügung.
Bis spätestens zwei Wochen nach Ablauf der Auslegungszeit, d.h. bis zum 28.10.2024 kann zum Entwurf des RROP, zu der Begründung und zum Umweltbericht in elektronischer oder schriftlicher Form Stellung genommen werden. Die Stellungnahmen sind zu richten an:
· E-Mail-Adresse: rrop@kreis-ni.de oder
· Landkreis Nienburg/Weser, 54 Regionalentwicklung, Kreishaus am Schloßplatz, 31582 Nienburg.
Mit Ablauf der oben angegebenen Stellungnahmefrist sind alle Stellungnahmen zu den Unterlagen ausgeschlossen, die nicht auf besonderen privatrechtlichen Titeln beruhen. Dieser Ausschluss hat keinen Einfluss auf gerichtliche Rechtsschutzmöglichkeiten.
Hinweise zum Datenschutz
Im Falle einer Stellungnahme werden personenbezogene Daten zum Zwecke des laufenden Regionalplanungsverfahrens (einschließlich der Ermittlung und Abwägung betroffener Belange und Dokumentation des ordnungsgemäßen Verfahrens) gespeichert und verarbeitet. Weitere Informationen zum Datenschutz sind unter "Datenschutzerklärung" veröffentlicht.
Service Item Id: 398b65a640f040adb52165e6b3c2c524
Copyright Text: Landkreis Nienburg/Weser
Spatial Reference:
102100
(3857)
Single Fused Map Cache: true
Tile Info:
- Height: 256
- Width: 256
- DPI: 96
-
Levels of Detail: 24
-
Level ID: 1
[ Start Tile, End Tile ]
- Resolution: 78271.5169639999
- Scale: 2.95828763795777E8
-
Level ID: 2
[ Start Tile, End Tile ]
- Resolution: 39135.7584820001
- Scale: 1.47914381897889E8
-
Level ID: 3
[ Start Tile, End Tile ]
- Resolution: 19567.8792409999
- Scale: 7.3957190948944E7
-
Level ID: 4
[ Start Tile, End Tile ]
- Resolution: 9783.93962049996
- Scale: 3.6978595474472E7
-
Level ID: 5
[ Start Tile, End Tile ]
- Resolution: 4891.96981024998
- Scale: 1.8489297737236E7
- Format: PNG
- Compression Quality: 0.0
- Origin: X: -2.0037508342787E7
Y: 2.0037508342787E7
- Spatial Reference: 102100
(3857)
Storage Info:
- Storage Format: esriMapCacheStorageModeCompactV2
- Packet Size: 128
Initial Extent:
XMin: 962089.8864872545
YMin: 6870398.45111971
XMax: 1067904.6828302974
YMax: 6966307.677320506
Spatial Reference: 102100
Full Extent:
XMin: 967872.8219020772
YMin: 6870398.45111971
XMax: 1062121.7474154746
YMax: 6966307.677320507
Spatial Reference: 102100
Units: esriMeters
Supported Image Format Types: PNG32,PNG24,PNG,JPG,DIB,TIFF,EMF,PS,PDF,GIF,SVG,SVGZ,BMP
Document Info:
Title: Regionales Raumordnungsprogramm (RROP) Entwurf 2024
Author:
Comments: Neuaufstellung des Regionalen Raumordnungsprogramms (RROP) des Landkreises Nienburg/Weser Auslegung mit Beteiligung – Entwurf 2024.
Der Kreisausschuss hat in seiner Sitzung am 27.05.2024 beschlossen, den Entwurf des RROP für den Landkreis Nienburg/Weser öffentlich auszulegen. Zu diesem Entwurf des RROP wird das Beteiligungsverfahren eingeleitet, siehe amtliche Bekanntmachung vom 17.07.2024.
Im vorliegenden Entwurf des RROP ist die angestrebte räumliche und strukturelle Entwicklung des Landkreises für einen zehnjährigen Zeitraum dargelegt.
Die folgenden Unterlagen
Entwurf der Satzung bestehend aus
a) Satzungstext
b) beschreibender Darstellung
c) zeichnerischer Darstellung (im Maßstab 1:50.000)
Begründung mit Anlagen
Umweltbericht
können in der Zeit vom 29.07.2024 bis 14.10.2024 beim Landkreis Nienburg/Weser, 54 Regionalentwicklung, Zimmer 457, Kreishaus am Schloßplatz, Eingang A über Servicestelle, 31582 Nienburg, montags bis freitags von 8:00 Uhr bis 12:00 Uhr sowie montags und donnerstags von 13:00 Uhr bis 16:00 Uhr oder nach besonderer Vereinbarung unter Tel.-Nr. 05021-967-457 oder E-Mail an rrop@kreis-ni.de eingesehen werden.
Die Unterlagen stehen ab dem 29.07.2024 zur Einsicht und zum Herunterladen zur Verfügung.
Bis spätestens zwei Wochen nach Ablauf der Auslegungszeit, d.h. bis zum 28.10.2024 kann zum Entwurf des RROP, zu der Begründung und zum Umweltbericht in elektronischer oder schriftlicher Form Stellung genommen werden. Die Stellungnahmen sind zu richten an:
· E-Mail-Adresse: rrop@kreis-ni.de oder
· Landkreis Nienburg/Weser, 54 Regionalentwicklung, Kreishaus am Schloßplatz, 31582 Nienburg.
Mit Ablauf der oben angegebenen Stellungnahmefrist sind alle Stellungnahmen zu den Unterlagen ausgeschlossen, die nicht auf besonderen privatrechtlichen Titeln beruhen. Dieser Ausschluss hat keinen Einfluss auf gerichtliche Rechtsschutzmöglichkeiten.
Hinweise zum Datenschutz
Im Falle einer Stellungnahme werden personenbezogene Daten zum Zwecke des laufenden Regionalplanungsverfahrens (einschließlich der Ermittlung und Abwägung betroffener Belange und Dokumentation des ordnungsgemäßen Verfahrens) gespeichert und verarbeitet. Weitere Informationen zum Datenschutz sind unter "Datenschutzerklärung" veröffentlicht.
Subject: Neuaufstellung des Regionalen Raumordnungsprogramms (RROP) des Landkreises Nienburg/Weser Auslegung mit Beteiligung – Entwurf 2024
Category:
Keywords: RROP
AntialiasingMode: Fast
TextAntialiasingMode: Force
Supports Dynamic Layers: false
MaxRecordCount: 2000
MaxImageHeight: 4096
MaxImageWidth: 4096
Supported Query Formats: JSON, geoJSON, PBF
Supports Query Data Elements: true
Min Scale: 4622324.434309
Max Scale: 18055.954822
Supports Datum Transformation: true
Child Resources:
Info
Supported Operations:
Export Map
Identify
QueryLegends
QueryDomains
Find
Return Updates